BEGIN:VCALENDAR
VERSION:2.0
PRODID:-//Let&#039;s Get Going! - ECPv6.15.20//NONSGML v1.0//EN
CALSCALE:GREGORIAN
METHOD:PUBLISH
X-WR-CALNAME:Let&#039;s Get Going!
X-ORIGINAL-URL:https://www.letsgetgoing.com
X-WR-CALDESC:Events for Let&#039;s Get Going!
REFRESH-INTERVAL;VALUE=DURATION:PT1H
X-Robots-Tag:noindex
X-PUBLISHED-TTL:PT1H
BEGIN:VTIMEZONE
TZID:UTC
BEGIN:STANDARD
TZOFFSETFROM:+0000
TZOFFSETTO:+0000
TZNAME:UTC
DTSTART:20250101T000000
END:STANDARD
END:VTIMEZONE
BEGIN:VEVENT
DTSTART;TZID=UTC:20260507T120000
DTEND;TZID=UTC:20260507T130000
DTSTAMP:20260421T090028
CREATED:20250903T142959Z
LAST-MODIFIED:20260409T084824Z
UID:10021453-1778155200-1778158800@www.letsgetgoing.com
SUMMARY:Parent & Toddler Sensory Swim
DESCRIPTION:For Under 8’s. To book and receive further information email Info@letsgetgoing.co.uk
URL:https://www.letsgetgoing.com/event/sensory-swim-for-parent-toddlers/2026-05-07/
LOCATION:Your Space Metrodome\, Metrodome Leisure Complex\, Barnsley\, S71 1AN\, United Kingdom
CATEGORIES:Healthy Mums
ATTACH;FMTTYPE=image/jpeg:https://www.letsgetgoing.com/app/uploads/2024/11/Happy-Mother-Swimming-with-Cute-Adorable-Baby-Girl-Daughter-in-Swimming-Pool-Spending-Spa-Vacations-scaled.jpeg
END:VEVENT
BEGIN:VEVENT
DTSTART;TZID=UTC:20260514T120000
DTEND;TZID=UTC:20260514T130000
DTSTAMP:20260421T090028
CREATED:20250903T142959Z
LAST-MODIFIED:20260409T084824Z
UID:10021454-1778760000-1778763600@www.letsgetgoing.com
SUMMARY:Parent & Toddler Sensory Swim
DESCRIPTION:For Under 8’s. To book and receive further information email Info@letsgetgoing.co.uk
URL:https://www.letsgetgoing.com/event/sensory-swim-for-parent-toddlers/2026-05-14/
LOCATION:Your Space Metrodome\, Metrodome Leisure Complex\, Barnsley\, S71 1AN\, United Kingdom
CATEGORIES:Healthy Mums
ATTACH;FMTTYPE=image/jpeg:https://www.letsgetgoing.com/app/uploads/2024/11/Happy-Mother-Swimming-with-Cute-Adorable-Baby-Girl-Daughter-in-Swimming-Pool-Spending-Spa-Vacations-scaled.jpeg
END:VEVENT
BEGIN:VEVENT
DTSTART;TZID=UTC:20260521T120000
DTEND;TZID=UTC:20260521T130000
DTSTAMP:20260421T090028
CREATED:20250903T142959Z
LAST-MODIFIED:20260409T084824Z
UID:10021455-1779364800-1779368400@www.letsgetgoing.com
SUMMARY:Parent & Toddler Sensory Swim
DESCRIPTION:For Under 8’s. To book and receive further information email Info@letsgetgoing.co.uk
URL:https://www.letsgetgoing.com/event/sensory-swim-for-parent-toddlers/2026-05-21/
LOCATION:Your Space Metrodome\, Metrodome Leisure Complex\, Barnsley\, S71 1AN\, United Kingdom
CATEGORIES:Healthy Mums
ATTACH;FMTTYPE=image/jpeg:https://www.letsgetgoing.com/app/uploads/2024/11/Happy-Mother-Swimming-with-Cute-Adorable-Baby-Girl-Daughter-in-Swimming-Pool-Spending-Spa-Vacations-scaled.jpeg
END:VEVENT
BEGIN:VEVENT
DTSTART;TZID=UTC:20260528T120000
DTEND;TZID=UTC:20260528T130000
DTSTAMP:20260421T090028
CREATED:20250903T142959Z
LAST-MODIFIED:20260409T084824Z
UID:10021456-1779969600-1779973200@www.letsgetgoing.com
SUMMARY:Parent & Toddler Sensory Swim
DESCRIPTION:For Under 8’s. To book and receive further information email Info@letsgetgoing.co.uk
URL:https://www.letsgetgoing.com/event/sensory-swim-for-parent-toddlers/2026-05-28/
LOCATION:Your Space Metrodome\, Metrodome Leisure Complex\, Barnsley\, S71 1AN\, United Kingdom
CATEGORIES:Healthy Mums
ATTACH;FMTTYPE=image/jpeg:https://www.letsgetgoing.com/app/uploads/2024/11/Happy-Mother-Swimming-with-Cute-Adorable-Baby-Girl-Daughter-in-Swimming-Pool-Spending-Spa-Vacations-scaled.jpeg
END:VEVENT
BEGIN:VEVENT
DTSTART;TZID=UTC:20260604T120000
DTEND;TZID=UTC:20260604T130000
DTSTAMP:20260421T090028
CREATED:20250903T142959Z
LAST-MODIFIED:20260409T084824Z
UID:10021457-1780574400-1780578000@www.letsgetgoing.com
SUMMARY:Parent & Toddler Sensory Swim
DESCRIPTION:For Under 8’s. To book and receive further information email Info@letsgetgoing.co.uk
URL:https://www.letsgetgoing.com/event/sensory-swim-for-parent-toddlers/2026-06-04/
LOCATION:Your Space Metrodome\, Metrodome Leisure Complex\, Barnsley\, S71 1AN\, United Kingdom
CATEGORIES:Healthy Mums
ATTACH;FMTTYPE=image/jpeg:https://www.letsgetgoing.com/app/uploads/2024/11/Happy-Mother-Swimming-with-Cute-Adorable-Baby-Girl-Daughter-in-Swimming-Pool-Spending-Spa-Vacations-scaled.jpeg
END:VEVENT
BEGIN:VEVENT
DTSTART;TZID=UTC:20260611T120000
DTEND;TZID=UTC:20260611T130000
DTSTAMP:20260421T090028
CREATED:20250903T142959Z
LAST-MODIFIED:20260409T084824Z
UID:10021458-1781179200-1781182800@www.letsgetgoing.com
SUMMARY:Parent & Toddler Sensory Swim
DESCRIPTION:For Under 8’s. To book and receive further information email Info@letsgetgoing.co.uk
URL:https://www.letsgetgoing.com/event/sensory-swim-for-parent-toddlers/2026-06-11/
LOCATION:Your Space Metrodome\, Metrodome Leisure Complex\, Barnsley\, S71 1AN\, United Kingdom
CATEGORIES:Healthy Mums
ATTACH;FMTTYPE=image/jpeg:https://www.letsgetgoing.com/app/uploads/2024/11/Happy-Mother-Swimming-with-Cute-Adorable-Baby-Girl-Daughter-in-Swimming-Pool-Spending-Spa-Vacations-scaled.jpeg
END:VEVENT
BEGIN:VEVENT
DTSTART;TZID=UTC:20260618T120000
DTEND;TZID=UTC:20260618T130000
DTSTAMP:20260421T090028
CREATED:20250903T142959Z
LAST-MODIFIED:20260409T084824Z
UID:10021459-1781784000-1781787600@www.letsgetgoing.com
SUMMARY:Parent & Toddler Sensory Swim
DESCRIPTION:For Under 8’s. To book and receive further information email Info@letsgetgoing.co.uk
URL:https://www.letsgetgoing.com/event/sensory-swim-for-parent-toddlers/2026-06-18/
LOCATION:Your Space Metrodome\, Metrodome Leisure Complex\, Barnsley\, S71 1AN\, United Kingdom
CATEGORIES:Healthy Mums
ATTACH;FMTTYPE=image/jpeg:https://www.letsgetgoing.com/app/uploads/2024/11/Happy-Mother-Swimming-with-Cute-Adorable-Baby-Girl-Daughter-in-Swimming-Pool-Spending-Spa-Vacations-scaled.jpeg
END:VEVENT
BEGIN:VEVENT
DTSTART;TZID=UTC:20260625T120000
DTEND;TZID=UTC:20260625T130000
DTSTAMP:20260421T090028
CREATED:20250903T142959Z
LAST-MODIFIED:20260409T084824Z
UID:10021460-1782388800-1782392400@www.letsgetgoing.com
SUMMARY:Parent & Toddler Sensory Swim
DESCRIPTION:For Under 8’s. To book and receive further information email Info@letsgetgoing.co.uk
URL:https://www.letsgetgoing.com/event/sensory-swim-for-parent-toddlers/2026-06-25/
LOCATION:Your Space Metrodome\, Metrodome Leisure Complex\, Barnsley\, S71 1AN\, United Kingdom
CATEGORIES:Healthy Mums
ATTACH;FMTTYPE=image/jpeg:https://www.letsgetgoing.com/app/uploads/2024/11/Happy-Mother-Swimming-with-Cute-Adorable-Baby-Girl-Daughter-in-Swimming-Pool-Spending-Spa-Vacations-scaled.jpeg
END:VEVENT
BEGIN:VEVENT
DTSTART;TZID=UTC:20260702T120000
DTEND;TZID=UTC:20260702T130000
DTSTAMP:20260421T090028
CREATED:20250903T142959Z
LAST-MODIFIED:20260409T084824Z
UID:10021461-1782993600-1782997200@www.letsgetgoing.com
SUMMARY:Parent & Toddler Sensory Swim
DESCRIPTION:For Under 8’s. To book and receive further information email Info@letsgetgoing.co.uk
URL:https://www.letsgetgoing.com/event/sensory-swim-for-parent-toddlers/2026-07-02/
LOCATION:Your Space Metrodome\, Metrodome Leisure Complex\, Barnsley\, S71 1AN\, United Kingdom
CATEGORIES:Healthy Mums
ATTACH;FMTTYPE=image/jpeg:https://www.letsgetgoing.com/app/uploads/2024/11/Happy-Mother-Swimming-with-Cute-Adorable-Baby-Girl-Daughter-in-Swimming-Pool-Spending-Spa-Vacations-scaled.jpeg
END:VEVENT
BEGIN:VEVENT
DTSTART;TZID=UTC:20260709T120000
DTEND;TZID=UTC:20260709T130000
DTSTAMP:20260421T090028
CREATED:20250903T142959Z
LAST-MODIFIED:20260409T084824Z
UID:10021462-1783598400-1783602000@www.letsgetgoing.com
SUMMARY:Parent & Toddler Sensory Swim
DESCRIPTION:For Under 8’s. To book and receive further information email Info@letsgetgoing.co.uk
URL:https://www.letsgetgoing.com/event/sensory-swim-for-parent-toddlers/2026-07-09/
LOCATION:Your Space Metrodome\, Metrodome Leisure Complex\, Barnsley\, S71 1AN\, United Kingdom
CATEGORIES:Healthy Mums
ATTACH;FMTTYPE=image/jpeg:https://www.letsgetgoing.com/app/uploads/2024/11/Happy-Mother-Swimming-with-Cute-Adorable-Baby-Girl-Daughter-in-Swimming-Pool-Spending-Spa-Vacations-scaled.jpeg
END:VEVENT
BEGIN:VEVENT
DTSTART;TZID=UTC:20260716T120000
DTEND;TZID=UTC:20260716T130000
DTSTAMP:20260421T090028
CREATED:20250903T142959Z
LAST-MODIFIED:20260409T084824Z
UID:10021463-1784203200-1784206800@www.letsgetgoing.com
SUMMARY:Parent & Toddler Sensory Swim
DESCRIPTION:For Under 8’s. To book and receive further information email Info@letsgetgoing.co.uk
URL:https://www.letsgetgoing.com/event/sensory-swim-for-parent-toddlers/2026-07-16/
LOCATION:Your Space Metrodome\, Metrodome Leisure Complex\, Barnsley\, S71 1AN\, United Kingdom
CATEGORIES:Healthy Mums
ATTACH;FMTTYPE=image/jpeg:https://www.letsgetgoing.com/app/uploads/2024/11/Happy-Mother-Swimming-with-Cute-Adorable-Baby-Girl-Daughter-in-Swimming-Pool-Spending-Spa-Vacations-scaled.jpeg
END:VEVENT
BEGIN:VEVENT
DTSTART;TZID=UTC:20260723T120000
DTEND;TZID=UTC:20260723T130000
DTSTAMP:20260421T090028
CREATED:20250903T142959Z
LAST-MODIFIED:20260409T084824Z
UID:10021464-1784808000-1784811600@www.letsgetgoing.com
SUMMARY:Parent & Toddler Sensory Swim
DESCRIPTION:For Under 8’s. To book and receive further information email Info@letsgetgoing.co.uk
URL:https://www.letsgetgoing.com/event/sensory-swim-for-parent-toddlers/2026-07-23/
LOCATION:Your Space Metrodome\, Metrodome Leisure Complex\, Barnsley\, S71 1AN\, United Kingdom
CATEGORIES:Healthy Mums
ATTACH;FMTTYPE=image/jpeg:https://www.letsgetgoing.com/app/uploads/2024/11/Happy-Mother-Swimming-with-Cute-Adorable-Baby-Girl-Daughter-in-Swimming-Pool-Spending-Spa-Vacations-scaled.jpeg
END:VEVENT
BEGIN:VEVENT
DTSTART;TZID=UTC:20260730T120000
DTEND;TZID=UTC:20260730T130000
DTSTAMP:20260421T090028
CREATED:20250903T142959Z
LAST-MODIFIED:20260409T084824Z
UID:10021465-1785412800-1785416400@www.letsgetgoing.com
SUMMARY:Parent & Toddler Sensory Swim
DESCRIPTION:For Under 8’s. To book and receive further information email Info@letsgetgoing.co.uk
URL:https://www.letsgetgoing.com/event/sensory-swim-for-parent-toddlers/2026-07-30/
LOCATION:Your Space Metrodome\, Metrodome Leisure Complex\, Barnsley\, S71 1AN\, United Kingdom
CATEGORIES:Healthy Mums
ATTACH;FMTTYPE=image/jpeg:https://www.letsgetgoing.com/app/uploads/2024/11/Happy-Mother-Swimming-with-Cute-Adorable-Baby-Girl-Daughter-in-Swimming-Pool-Spending-Spa-Vacations-scaled.jpeg
END:VEVENT
BEGIN:VEVENT
DTSTART;TZID=UTC:20260806T120000
DTEND;TZID=UTC:20260806T130000
DTSTAMP:20260421T090028
CREATED:20250903T142959Z
LAST-MODIFIED:20260409T084824Z
UID:10021466-1786017600-1786021200@www.letsgetgoing.com
SUMMARY:Parent & Toddler Sensory Swim
DESCRIPTION:For Under 8’s. To book and receive further information email Info@letsgetgoing.co.uk
URL:https://www.letsgetgoing.com/event/sensory-swim-for-parent-toddlers/2026-08-06/
LOCATION:Your Space Metrodome\, Metrodome Leisure Complex\, Barnsley\, S71 1AN\, United Kingdom
CATEGORIES:Healthy Mums
ATTACH;FMTTYPE=image/jpeg:https://www.letsgetgoing.com/app/uploads/2024/11/Happy-Mother-Swimming-with-Cute-Adorable-Baby-Girl-Daughter-in-Swimming-Pool-Spending-Spa-Vacations-scaled.jpeg
END:VEVENT
BEGIN:VEVENT
DTSTART;TZID=UTC:20260813T120000
DTEND;TZID=UTC:20260813T130000
DTSTAMP:20260421T090028
CREATED:20250903T142959Z
LAST-MODIFIED:20260409T084824Z
UID:10021467-1786622400-1786626000@www.letsgetgoing.com
SUMMARY:Parent & Toddler Sensory Swim
DESCRIPTION:For Under 8’s. To book and receive further information email Info@letsgetgoing.co.uk
URL:https://www.letsgetgoing.com/event/sensory-swim-for-parent-toddlers/2026-08-13/
LOCATION:Your Space Metrodome\, Metrodome Leisure Complex\, Barnsley\, S71 1AN\, United Kingdom
CATEGORIES:Healthy Mums
ATTACH;FMTTYPE=image/jpeg:https://www.letsgetgoing.com/app/uploads/2024/11/Happy-Mother-Swimming-with-Cute-Adorable-Baby-Girl-Daughter-in-Swimming-Pool-Spending-Spa-Vacations-scaled.jpeg
END:VEVENT
BEGIN:VEVENT
DTSTART;TZID=UTC:20260820T120000
DTEND;TZID=UTC:20260820T130000
DTSTAMP:20260421T090028
CREATED:20250903T142959Z
LAST-MODIFIED:20260409T084824Z
UID:10021468-1787227200-1787230800@www.letsgetgoing.com
SUMMARY:Parent & Toddler Sensory Swim
DESCRIPTION:For Under 8’s. To book and receive further information email Info@letsgetgoing.co.uk
URL:https://www.letsgetgoing.com/event/sensory-swim-for-parent-toddlers/2026-08-20/
LOCATION:Your Space Metrodome\, Metrodome Leisure Complex\, Barnsley\, S71 1AN\, United Kingdom
CATEGORIES:Healthy Mums
ATTACH;FMTTYPE=image/jpeg:https://www.letsgetgoing.com/app/uploads/2024/11/Happy-Mother-Swimming-with-Cute-Adorable-Baby-Girl-Daughter-in-Swimming-Pool-Spending-Spa-Vacations-scaled.jpeg
END:VEVENT
BEGIN:VEVENT
DTSTART;TZID=UTC:20260827T120000
DTEND;TZID=UTC:20260827T130000
DTSTAMP:20260421T090028
CREATED:20250903T142959Z
LAST-MODIFIED:20260409T084824Z
UID:10021469-1787832000-1787835600@www.letsgetgoing.com
SUMMARY:Parent & Toddler Sensory Swim
DESCRIPTION:For Under 8’s. To book and receive further information email Info@letsgetgoing.co.uk
URL:https://www.letsgetgoing.com/event/sensory-swim-for-parent-toddlers/2026-08-27/
LOCATION:Your Space Metrodome\, Metrodome Leisure Complex\, Barnsley\, S71 1AN\, United Kingdom
CATEGORIES:Healthy Mums
ATTACH;FMTTYPE=image/jpeg:https://www.letsgetgoing.com/app/uploads/2024/11/Happy-Mother-Swimming-with-Cute-Adorable-Baby-Girl-Daughter-in-Swimming-Pool-Spending-Spa-Vacations-scaled.jpeg
END:VEVENT
BEGIN:VEVENT
DTSTART;TZID=UTC:20260903T120000
DTEND;TZID=UTC:20260903T130000
DTSTAMP:20260421T090028
CREATED:20250903T142959Z
LAST-MODIFIED:20260409T084824Z
UID:10021470-1788436800-1788440400@www.letsgetgoing.com
SUMMARY:Parent & Toddler Sensory Swim
DESCRIPTION:For Under 8’s. To book and receive further information email Info@letsgetgoing.co.uk
URL:https://www.letsgetgoing.com/event/sensory-swim-for-parent-toddlers/2026-09-03/
LOCATION:Your Space Metrodome\, Metrodome Leisure Complex\, Barnsley\, S71 1AN\, United Kingdom
CATEGORIES:Healthy Mums
ATTACH;FMTTYPE=image/jpeg:https://www.letsgetgoing.com/app/uploads/2024/11/Happy-Mother-Swimming-with-Cute-Adorable-Baby-Girl-Daughter-in-Swimming-Pool-Spending-Spa-Vacations-scaled.jpeg
END:VEVENT
BEGIN:VEVENT
DTSTART;TZID=UTC:20260910T120000
DTEND;TZID=UTC:20260910T130000
DTSTAMP:20260421T090028
CREATED:20250903T142959Z
LAST-MODIFIED:20260409T084824Z
UID:10021471-1789041600-1789045200@www.letsgetgoing.com
SUMMARY:Parent & Toddler Sensory Swim
DESCRIPTION:For Under 8’s. To book and receive further information email Info@letsgetgoing.co.uk
URL:https://www.letsgetgoing.com/event/sensory-swim-for-parent-toddlers/2026-09-10/
LOCATION:Your Space Metrodome\, Metrodome Leisure Complex\, Barnsley\, S71 1AN\, United Kingdom
CATEGORIES:Healthy Mums
ATTACH;FMTTYPE=image/jpeg:https://www.letsgetgoing.com/app/uploads/2024/11/Happy-Mother-Swimming-with-Cute-Adorable-Baby-Girl-Daughter-in-Swimming-Pool-Spending-Spa-Vacations-scaled.jpeg
END:VEVENT
BEGIN:VEVENT
DTSTART;TZID=UTC:20260917T120000
DTEND;TZID=UTC:20260917T130000
DTSTAMP:20260421T090028
CREATED:20250903T142959Z
LAST-MODIFIED:20260409T084824Z
UID:10021472-1789646400-1789650000@www.letsgetgoing.com
SUMMARY:Parent & Toddler Sensory Swim
DESCRIPTION:For Under 8’s. To book and receive further information email Info@letsgetgoing.co.uk
URL:https://www.letsgetgoing.com/event/sensory-swim-for-parent-toddlers/2026-09-17/
LOCATION:Your Space Metrodome\, Metrodome Leisure Complex\, Barnsley\, S71 1AN\, United Kingdom
CATEGORIES:Healthy Mums
ATTACH;FMTTYPE=image/jpeg:https://www.letsgetgoing.com/app/uploads/2024/11/Happy-Mother-Swimming-with-Cute-Adorable-Baby-Girl-Daughter-in-Swimming-Pool-Spending-Spa-Vacations-scaled.jpeg
END:VEVENT
BEGIN:VEVENT
DTSTART;TZID=UTC:20260924T120000
DTEND;TZID=UTC:20260924T130000
DTSTAMP:20260421T090028
CREATED:20250903T142959Z
LAST-MODIFIED:20260409T084824Z
UID:10021473-1790251200-1790254800@www.letsgetgoing.com
SUMMARY:Parent & Toddler Sensory Swim
DESCRIPTION:For Under 8’s. To book and receive further information email Info@letsgetgoing.co.uk
URL:https://www.letsgetgoing.com/event/sensory-swim-for-parent-toddlers/2026-09-24/
LOCATION:Your Space Metrodome\, Metrodome Leisure Complex\, Barnsley\, S71 1AN\, United Kingdom
CATEGORIES:Healthy Mums
ATTACH;FMTTYPE=image/jpeg:https://www.letsgetgoing.com/app/uploads/2024/11/Happy-Mother-Swimming-with-Cute-Adorable-Baby-Girl-Daughter-in-Swimming-Pool-Spending-Spa-Vacations-scaled.jpeg
END:VEVENT
BEGIN:VEVENT
DTSTART;TZID=UTC:20261001T120000
DTEND;TZID=UTC:20261001T130000
DTSTAMP:20260421T090028
CREATED:20250903T142959Z
LAST-MODIFIED:20260409T084824Z
UID:10021474-1790856000-1790859600@www.letsgetgoing.com
SUMMARY:Parent & Toddler Sensory Swim
DESCRIPTION:For Under 8’s. To book and receive further information email Info@letsgetgoing.co.uk
URL:https://www.letsgetgoing.com/event/sensory-swim-for-parent-toddlers/2026-10-01/
LOCATION:Your Space Metrodome\, Metrodome Leisure Complex\, Barnsley\, S71 1AN\, United Kingdom
CATEGORIES:Healthy Mums
ATTACH;FMTTYPE=image/jpeg:https://www.letsgetgoing.com/app/uploads/2024/11/Happy-Mother-Swimming-with-Cute-Adorable-Baby-Girl-Daughter-in-Swimming-Pool-Spending-Spa-Vacations-scaled.jpeg
END:VEVENT
BEGIN:VEVENT
DTSTART;TZID=UTC:20261008T120000
DTEND;TZID=UTC:20261008T130000
DTSTAMP:20260421T090028
CREATED:20250903T142959Z
LAST-MODIFIED:20260409T084824Z
UID:10021475-1791460800-1791464400@www.letsgetgoing.com
SUMMARY:Parent & Toddler Sensory Swim
DESCRIPTION:For Under 8’s. To book and receive further information email Info@letsgetgoing.co.uk
URL:https://www.letsgetgoing.com/event/sensory-swim-for-parent-toddlers/2026-10-08/
LOCATION:Your Space Metrodome\, Metrodome Leisure Complex\, Barnsley\, S71 1AN\, United Kingdom
CATEGORIES:Healthy Mums
ATTACH;FMTTYPE=image/jpeg:https://www.letsgetgoing.com/app/uploads/2024/11/Happy-Mother-Swimming-with-Cute-Adorable-Baby-Girl-Daughter-in-Swimming-Pool-Spending-Spa-Vacations-scaled.jpeg
END:VEVENT
BEGIN:VEVENT
DTSTART;TZID=UTC:20261015T120000
DTEND;TZID=UTC:20261015T130000
DTSTAMP:20260421T090028
CREATED:20250903T142959Z
LAST-MODIFIED:20260409T084824Z
UID:10021476-1792065600-1792069200@www.letsgetgoing.com
SUMMARY:Parent & Toddler Sensory Swim
DESCRIPTION:For Under 8’s. To book and receive further information email Info@letsgetgoing.co.uk
URL:https://www.letsgetgoing.com/event/sensory-swim-for-parent-toddlers/2026-10-15/
LOCATION:Your Space Metrodome\, Metrodome Leisure Complex\, Barnsley\, S71 1AN\, United Kingdom
CATEGORIES:Healthy Mums
ATTACH;FMTTYPE=image/jpeg:https://www.letsgetgoing.com/app/uploads/2024/11/Happy-Mother-Swimming-with-Cute-Adorable-Baby-Girl-Daughter-in-Swimming-Pool-Spending-Spa-Vacations-scaled.jpeg
END:VEVENT
BEGIN:VEVENT
DTSTART;TZID=UTC:20261022T120000
DTEND;TZID=UTC:20261022T130000
DTSTAMP:20260421T090028
CREATED:20250903T142959Z
LAST-MODIFIED:20260409T084824Z
UID:10021477-1792670400-1792674000@www.letsgetgoing.com
SUMMARY:Parent & Toddler Sensory Swim
DESCRIPTION:For Under 8’s. To book and receive further information email Info@letsgetgoing.co.uk
URL:https://www.letsgetgoing.com/event/sensory-swim-for-parent-toddlers/2026-10-22/
LOCATION:Your Space Metrodome\, Metrodome Leisure Complex\, Barnsley\, S71 1AN\, United Kingdom
CATEGORIES:Healthy Mums
ATTACH;FMTTYPE=image/jpeg:https://www.letsgetgoing.com/app/uploads/2024/11/Happy-Mother-Swimming-with-Cute-Adorable-Baby-Girl-Daughter-in-Swimming-Pool-Spending-Spa-Vacations-scaled.jpeg
END:VEVENT
BEGIN:VEVENT
DTSTART;TZID=UTC:20261029T120000
DTEND;TZID=UTC:20261029T130000
DTSTAMP:20260421T090028
CREATED:20250903T142959Z
LAST-MODIFIED:20260409T084824Z
UID:10021478-1793275200-1793278800@www.letsgetgoing.com
SUMMARY:Parent & Toddler Sensory Swim
DESCRIPTION:For Under 8’s. To book and receive further information email Info@letsgetgoing.co.uk
URL:https://www.letsgetgoing.com/event/sensory-swim-for-parent-toddlers/2026-10-29/
LOCATION:Your Space Metrodome\, Metrodome Leisure Complex\, Barnsley\, S71 1AN\, United Kingdom
CATEGORIES:Healthy Mums
ATTACH;FMTTYPE=image/jpeg:https://www.letsgetgoing.com/app/uploads/2024/11/Happy-Mother-Swimming-with-Cute-Adorable-Baby-Girl-Daughter-in-Swimming-Pool-Spending-Spa-Vacations-scaled.jpeg
END:VEVENT
BEGIN:VEVENT
DTSTART;TZID=UTC:20261105T120000
DTEND;TZID=UTC:20261105T130000
DTSTAMP:20260421T090028
CREATED:20250903T142959Z
LAST-MODIFIED:20260409T084824Z
UID:10021479-1793880000-1793883600@www.letsgetgoing.com
SUMMARY:Parent & Toddler Sensory Swim
DESCRIPTION:For Under 8’s. To book and receive further information email Info@letsgetgoing.co.uk
URL:https://www.letsgetgoing.com/event/sensory-swim-for-parent-toddlers/2026-11-05/
LOCATION:Your Space Metrodome\, Metrodome Leisure Complex\, Barnsley\, S71 1AN\, United Kingdom
CATEGORIES:Healthy Mums
ATTACH;FMTTYPE=image/jpeg:https://www.letsgetgoing.com/app/uploads/2024/11/Happy-Mother-Swimming-with-Cute-Adorable-Baby-Girl-Daughter-in-Swimming-Pool-Spending-Spa-Vacations-scaled.jpeg
END:VEVENT
BEGIN:VEVENT
DTSTART;TZID=UTC:20261112T120000
DTEND;TZID=UTC:20261112T130000
DTSTAMP:20260421T090028
CREATED:20250903T142959Z
LAST-MODIFIED:20260409T084824Z
UID:10021480-1794484800-1794488400@www.letsgetgoing.com
SUMMARY:Parent & Toddler Sensory Swim
DESCRIPTION:For Under 8’s. To book and receive further information email Info@letsgetgoing.co.uk
URL:https://www.letsgetgoing.com/event/sensory-swim-for-parent-toddlers/2026-11-12/
LOCATION:Your Space Metrodome\, Metrodome Leisure Complex\, Barnsley\, S71 1AN\, United Kingdom
CATEGORIES:Healthy Mums
ATTACH;FMTTYPE=image/jpeg:https://www.letsgetgoing.com/app/uploads/2024/11/Happy-Mother-Swimming-with-Cute-Adorable-Baby-Girl-Daughter-in-Swimming-Pool-Spending-Spa-Vacations-scaled.jpeg
END:VEVENT
BEGIN:VEVENT
DTSTART;TZID=UTC:20261119T120000
DTEND;TZID=UTC:20261119T130000
DTSTAMP:20260421T090028
CREATED:20250903T142959Z
LAST-MODIFIED:20260409T084824Z
UID:10021481-1795089600-1795093200@www.letsgetgoing.com
SUMMARY:Parent & Toddler Sensory Swim
DESCRIPTION:For Under 8’s. To book and receive further information email Info@letsgetgoing.co.uk
URL:https://www.letsgetgoing.com/event/sensory-swim-for-parent-toddlers/2026-11-19/
LOCATION:Your Space Metrodome\, Metrodome Leisure Complex\, Barnsley\, S71 1AN\, United Kingdom
CATEGORIES:Healthy Mums
ATTACH;FMTTYPE=image/jpeg:https://www.letsgetgoing.com/app/uploads/2024/11/Happy-Mother-Swimming-with-Cute-Adorable-Baby-Girl-Daughter-in-Swimming-Pool-Spending-Spa-Vacations-scaled.jpeg
END:VEVENT
BEGIN:VEVENT
DTSTART;TZID=UTC:20261126T120000
DTEND;TZID=UTC:20261126T130000
DTSTAMP:20260421T090028
CREATED:20250903T142959Z
LAST-MODIFIED:20260409T084824Z
UID:10021482-1795694400-1795698000@www.letsgetgoing.com
SUMMARY:Parent & Toddler Sensory Swim
DESCRIPTION:For Under 8’s. To book and receive further information email Info@letsgetgoing.co.uk
URL:https://www.letsgetgoing.com/event/sensory-swim-for-parent-toddlers/2026-11-26/
LOCATION:Your Space Metrodome\, Metrodome Leisure Complex\, Barnsley\, S71 1AN\, United Kingdom
CATEGORIES:Healthy Mums
ATTACH;FMTTYPE=image/jpeg:https://www.letsgetgoing.com/app/uploads/2024/11/Happy-Mother-Swimming-with-Cute-Adorable-Baby-Girl-Daughter-in-Swimming-Pool-Spending-Spa-Vacations-scaled.jpeg
END:VEVENT
END:VCALENDAR